BEGIN:VCALENDAR
VERSION:2.0
PRODID:-//SREE CHAKRA DATTA SREE PADA SREE SAI PEADAM - ECPv6.15.20//NONSGML v1.0//EN
CALSCALE:GREGORIAN
METHOD:PUBLISH
X-ORIGINAL-URL:https://www.sreechakradattasreepadapeadam.org
X-WR-CALDESC:Events for SREE CHAKRA DATTA SREE PADA SREE SAI PEADAM
REFRESH-INTERVAL;VALUE=DURATION:PT1H
X-Robots-Tag:noindex
X-PUBLISHED-TTL:PT1H
BEGIN:VTIMEZONE
TZID:Asia/Kolkata
BEGIN:STANDARD
TZOFFSETFROM:+0530
TZOFFSETTO:+0530
TZNAME:IST
DTSTART:20210101T000000
END:STANDARD
END:VTIMEZONE
BEGIN:VEVENT
DTSTART;TZID=Asia/Kolkata:20220402T100000
DTEND;TZID=Asia/Kolkata:20220402T110000
DTSTAMP:20260423T122236
CREATED:20220402T132125Z
LAST-MODIFIED:20241206T130150Z
UID:1194-1648893600-1648897200@www.sreechakradattasreepadapeadam.org
SUMMARY:SREE MATHAA SREE VALLABHA NANDA MAYI HAD THE  DATTA MAHARAJ DARSHAN (BHUSAWAL)
DESCRIPTION:
URL:https://www.sreechakradattasreepadapeadam.org/event/sree-mathaa-sree-vallabha-nanda-mayi-had-the-datta-maharaj-darshan-bhusawal/
ATTACH;FMTTYPE=image/jpeg:https://www.sreechakradattasreepadapeadam.org/wp-content/uploads/2022/04/WhatsApp-Image-2024-11-30-at-09.26.43-2.jpeg
END:VEVENT
END:VCALENDAR