BEGIN:VCALENDAR
VERSION:2.0
PRODID:-//SREE CHAKRA DATTA SREE PADA SREE SAI PEADAM - ECPv6.15.20//NONSGML v1.0//EN
CALSCALE:GREGORIAN
METHOD:PUBLISH
X-ORIGINAL-URL:https://www.sreechakradattasreepadapeadam.org
X-WR-CALDESC:Events for SREE CHAKRA DATTA SREE PADA SREE SAI PEADAM
REFRESH-INTERVAL;VALUE=DURATION:PT1H
X-Robots-Tag:noindex
X-PUBLISHED-TTL:PT1H
BEGIN:VTIMEZONE
TZID:UTC
BEGIN:STANDARD
TZOFFSETFROM:+0000
TZOFFSETTO:+0000
TZNAME:UTC
DTSTART:20230101T000000
END:STANDARD
END:VTIMEZONE
BEGIN:VTIMEZONE
TZID:Asia/Kolkata
BEGIN:STANDARD
TZOFFSETFROM:+0530
TZOFFSETTO:+0530
TZNAME:IST
DTSTART:20210101T000000
END:STANDARD
END:VTIMEZONE
BEGIN:VEVENT
DTSTART;TZID=UTC:20250212T080000
DTEND;TZID=UTC:20250212T170000
DTSTAMP:20260421T211052
CREATED:20250212T100222Z
LAST-MODIFIED:20250212T100222Z
UID:22809-1739347200-1739379600@www.sreechakradattasreepadapeadam.org
SUMMARY:Swami SAMRTHA PADHUGA RECEIVED AKKALKOT\, MAHARASHTRA
DESCRIPTION:
URL:https://www.sreechakradattasreepadapeadam.org/event/swami-samrtha-padhuga-received-akkalkot-maharashtra/
END:VEVENT
BEGIN:VEVENT
DTSTART;TZID=UTC:20250212T080000
DTEND;TZID=UTC:20250212T170000
DTSTAMP:20260421T211052
CREATED:20250212T095912Z
LAST-MODIFIED:20250212T095912Z
UID:22802-1739347200-1739379600@www.sreechakradattasreepadapeadam.org
SUMMARY:Swami GAJANAN MAHARAJ PADHUGA MAATHAJI RECEIVED SHEGAON
DESCRIPTION:
URL:https://www.sreechakradattasreepadapeadam.org/event/swami-gajanan-maharaj-padhuga-maathaji-received-shegaon/
END:VEVENT
BEGIN:VEVENT
DTSTART;TZID=UTC:20250212T080000
DTEND;TZID=UTC:20250212T170000
DTSTAMP:20260421T211052
CREATED:20250212T095730Z
LAST-MODIFIED:20250212T095730Z
UID:22795-1739347200-1739379600@www.sreechakradattasreepadapeadam.org
SUMMARY:Swami SREE MANIKA PRABU PADHUGA MAATHAJI RECEIVED MANIKNAGAR
DESCRIPTION:
URL:https://www.sreechakradattasreepadapeadam.org/event/swami-sree-manika-prabu-padhuga-maathaji-received-maniknagar/
END:VEVENT
BEGIN:VEVENT
DTSTART;TZID=UTC:20250212T080000
DTEND;TZID=UTC:20250212T170000
DTSTAMP:20260421T211052
CREATED:20250212T095452Z
LAST-MODIFIED:20250212T095452Z
UID:22785-1739347200-1739379600@www.sreechakradattasreepadapeadam.org
SUMMARY:Swami SREE NARASIMHA SARASWATI PADHUGA MAAJI RECEIVED GANU AT SRI GANAGAPUR KSHETRA
DESCRIPTION:﻿
URL:https://www.sreechakradattasreepadapeadam.org/event/swami-sree-narasimha-saraswati-padhuga-maaji-received-ganu-at-sri-ganagapur-kshetra/
END:VEVENT
BEGIN:VEVENT
DTSTART;TZID=Asia/Kolkata:20241205T153000
DTEND;TZID=Asia/Kolkata:20241205T193000
DTSTAMP:20260421T211052
CREATED:20241205T133115Z
LAST-MODIFIED:20241206T125551Z
UID:1204-1733412600-1733427000@www.sreechakradattasreepadapeadam.org
SUMMARY:1000 year old Akshayalingeshwarar prothosam Pooja at Kancheepuram
DESCRIPTION:
URL:https://www.sreechakradattasreepadapeadam.org/event/1000-year-old-akshayalingeshwarar-prothosam-pooja-at-kancheepuram/
ATTACH;FMTTYPE=image/jpeg:https://www.sreechakradattasreepadapeadam.org/wp-content/uploads/2024/12/WhatsApp-Image-2024-11-30-at-09.27.08.jpeg
END:VEVENT
BEGIN:VEVENT
DTSTART;TZID=UTC:20241204T133000
DTEND;TZID=UTC:20241204T170000
DTSTAMP:20260421T211052
CREATED:20241204T181610Z
LAST-MODIFIED:20241206T132312Z
UID:1743-1733319000-1733331600@www.sreechakradattasreepadapeadam.org
SUMMARY:One Crore Sree Chakra Yantra Maha Yajna and Anagha Datta Thirukalyanam
DESCRIPTION:
URL:https://www.sreechakradattasreepadapeadam.org/event/one-crore-sree-chakra-yantra-maha-yajna-and-anagha-datta-thirukalyanam/
ATTACH;FMTTYPE=image/jpeg:https://www.sreechakradattasreepadapeadam.org/wp-content/uploads/2024/12/WhatsApp-Image-2024-11-26-at-07.25.50-2.jpeg
END:VEVENT
BEGIN:VEVENT
DTSTART;TZID=Asia/Kolkata:20241124T100000
DTEND;TZID=Asia/Kolkata:20241124T110000
DTSTAMP:20260421T211052
CREATED:20241124T132928Z
LAST-MODIFIED:20241206T131704Z
UID:1202-1732442400-1732446000@www.sreechakradattasreepadapeadam.org
SUMMARY:SREE MAATHA PERFORMED SREE CHAKRA POOJAI & ANNATHANAM at Sreepada Sreevallabha Anagha Datta Kshetram (Pithapuram\, Kakinada)
DESCRIPTION:
URL:https://www.sreechakradattasreepadapeadam.org/event/sree-maatha-performed-sree-chakra-poojai-annathanam-at-sreepada-sreevallabha-anagha-datta-kshetram-pithapuram-kakinada/
ATTACH;FMTTYPE=image/jpeg:https://www.sreechakradattasreepadapeadam.org/wp-content/uploads/2024/11/WhatsApp-Image-2024-11-27-at-21.03.17.jpeg
END:VEVENT
BEGIN:VEVENT
DTSTART;TZID=Asia/Kolkata:20241123T080000
DTEND;TZID=Asia/Kolkata:20241123T100000
DTSTAMP:20260421T211052
CREATED:20241123T132832Z
LAST-MODIFIED:20241206T131234Z
UID:1200-1732348800-1732356000@www.sreechakradattasreepadapeadam.org
SUMMARY:23rd November 2024
DESCRIPTION:
URL:https://www.sreechakradattasreepadapeadam.org/event/23rd-november-2024/
ATTACH;FMTTYPE=image/jpeg:https://www.sreechakradattasreepadapeadam.org/wp-content/uploads/2024/11/WhatsApp-Image-2024-11-26-at-07.54.31.jpeg
END:VEVENT
BEGIN:VEVENT
DTSTART;TZID=Asia/Kolkata:20241103T150000
DTEND;TZID=Asia/Kolkata:20241103T190000
DTSTAMP:20260421T211053
CREATED:20241103T180421Z
LAST-MODIFIED:20241206T133157Z
UID:1737-1730646000-1730660400@www.sreechakradattasreepadapeadam.org
SUMMARY:SREE MAATHA VALLABHA NANTHA MAYI PERFORMED SREE CHAKRA POOJAI AT VEMULAWADA(TELANGANA)
DESCRIPTION:
URL:https://www.sreechakradattasreepadapeadam.org/event/sree-maatha-vallabha-nantha-mayi-performed-sree-chakra-poojai-at-vemulawadatelangana/
ATTACH;FMTTYPE=image/jpeg:https://www.sreechakradattasreepadapeadam.org/wp-content/uploads/2024/11/WhatsApp-Image-2024-11-25-at-15.52.14.jpeg
END:VEVENT
BEGIN:VEVENT
DTSTART;TZID=Asia/Kolkata:20241031T113000
DTEND;TZID=Asia/Kolkata:20241031T170000
DTSTAMP:20260421T211053
CREATED:20241031T135330Z
LAST-MODIFIED:20241206T132632Z
UID:1206-1730374200-1730394000@www.sreechakradattasreepadapeadam.org
SUMMARY:RAVI SHASTRI PMC MEDITATION PEOPLE VISITED SREE CHAKRA DATTA PEETAM AT KANCHI
DESCRIPTION:
URL:https://www.sreechakradattasreepadapeadam.org/event/ravi-shastri-pmc-meditation-people-visited-sree-chakra-datta-peetam-at-kanchi/
ATTACH;FMTTYPE=image/jpeg:https://www.sreechakradattasreepadapeadam.org/wp-content/uploads/2024/10/WhatsApp-Image-2024-11-25-at-15.54.34-2.jpeg
END:VEVENT
BEGIN:VEVENT
DTSTART;TZID=Asia/Kolkata:20230414T103000
DTEND;TZID=Asia/Kolkata:20230414T110000
DTSTAMP:20260421T211053
CREATED:20220401T132335Z
LAST-MODIFIED:20241206T130911Z
UID:1196-1681468200-1681470000@www.sreechakradattasreepadapeadam.org
SUMMARY:SREE MATHAA SREE VALLABHA NANDA MAYI HAD THE PADUKA DARSHAN OF  SWAMI SAMARTH AT AKKALKOT IN VIEW OF SEEKING BLESSINGS FROM SWAMI WHOSE SHRINE IS GOING TO BE CONSCECRETED AT MELSIRUNAI KANCHEEPURAM
DESCRIPTION:
URL:https://www.sreechakradattasreepadapeadam.org/event/sree-mathaa-sree-vallabha-nanda-mayi-had-the-paduka-darshan-of-swami-samarth-at-akkalkot-in-view-of-seeking-blessings-from-swami-whose-shrine-is-going-to-be-conscecreted-at-melsirunai-kancheepuram/
ATTACH;FMTTYPE=image/jpeg:https://www.sreechakradattasreepadapeadam.org/wp-content/uploads/2022/04/5.jpeg
END:VEVENT
BEGIN:VEVENT
DTSTART;TZID=Asia/Kolkata:20220409T153000
DTEND;TZID=Asia/Kolkata:20220409T193000
DTSTAMP:20260421T211053
CREATED:20250112T091414Z
LAST-MODIFIED:20250112T091821Z
UID:21777-1649518200-1649532600@www.sreechakradattasreepadapeadam.org
SUMMARY:RAMA NAVAMI SPECIAL POOJAI AND ANNADANAM AT SREE CHAKRA DATTA PEADAM AT KANCHEEPURAM\, TAMIL NADU
DESCRIPTION:
URL:https://www.sreechakradattasreepadapeadam.org/event/rama-navami-special-poojai-and-annadanam-at-sree-chakra-datta-peadam-at-kancheepuram-tamil-nadu/
ATTACH;FMTTYPE=image/jpeg:https://www.sreechakradattasreepadapeadam.org/wp-content/uploads/2025/01/main.jpg
END:VEVENT
BEGIN:VEVENT
DTSTART;TZID=Asia/Kolkata:20220402T100000
DTEND;TZID=Asia/Kolkata:20220402T110000
DTSTAMP:20260421T211053
CREATED:20220402T132125Z
LAST-MODIFIED:20241206T130150Z
UID:1194-1648893600-1648897200@www.sreechakradattasreepadapeadam.org
SUMMARY:SREE MATHAA SREE VALLABHA NANDA MAYI HAD THE  DATTA MAHARAJ DARSHAN (BHUSAWAL)
DESCRIPTION:
URL:https://www.sreechakradattasreepadapeadam.org/event/sree-mathaa-sree-vallabha-nanda-mayi-had-the-datta-maharaj-darshan-bhusawal/
ATTACH;FMTTYPE=image/jpeg:https://www.sreechakradattasreepadapeadam.org/wp-content/uploads/2022/04/WhatsApp-Image-2024-11-30-at-09.26.43-2.jpeg
END:VEVENT
END:VCALENDAR